BEGIN:VCALENDAR
VERSION:2.0
PRODID:-//The City of Camden - ECPv6.14.0//NONSGML v1.0//EN
CALSCALE:GREGORIAN
METHOD:PUBLISH
X-ORIGINAL-URL:https://www.camdennj.gov
X-WR-CALDESC:Events for The City of Camden
REFRESH-INTERVAL;VALUE=DURATION:PT1H
X-Robots-Tag:noindex
X-PUBLISHED-TTL:PT1H
BEGIN:VTIMEZONE
TZID:America/New_York
BEGIN:DAYLIGHT
TZOFFSETFROM:-0500
TZOFFSETTO:-0400
TZNAME:EDT
DTSTART:20240310T070000
END:DAYLIGHT
BEGIN:STANDARD
TZOFFSETFROM:-0400
TZOFFSETTO:-0500
TZNAME:EST
DTSTART:20241103T060000
END:STANDARD
END:VTIMEZONE
BEGIN:VEVENT
DTSTART;TZID=America/New_York:20240606T090000
DTEND;TZID=America/New_York:20240606T140000
DTSTAMP:20260419T120059
CREATED:20240606T195514Z
LAST-MODIFIED:20240606T195514Z
UID:10000130-1717664400-1717682400@www.camdennj.gov
SUMMARY:Camden Clean- Up
DESCRIPTION:9:00 Am- 2:00 p.m. \nYorkship Square \nBetween Kearsarge and Alabama Rd.\, Camden\, NJ \nFor more information contact (856)757-7200
URL:https://www.camdennj.gov/event/camden-clean-up/
LOCATION:Yorkahip Square\, Yorkship Square\, Camden\, 08105\, United States
CATEGORIES:Office of the Mayor & Public Information
ORGANIZER;CN="Keyann'a Watkins":MAILTO:CamdenClean@ci.camden.nj.us
END:VEVENT
END:VCALENDAR