BEGIN:VCALENDAR
VERSION:2.0
PRODID:-//The City of Camden - ECPv6.14.0//NONSGML v1.0//EN
CALSCALE:GREGORIAN
METHOD:PUBLISH
X-WR-CALNAME:The City of Camden
X-ORIGINAL-URL:https://www.camdennj.gov
X-WR-CALDESC:Events for The City of Camden
REFRESH-INTERVAL;VALUE=DURATION:PT1H
X-Robots-Tag:noindex
X-PUBLISHED-TTL:PT1H
BEGIN:VTIMEZONE
TZID:America/New_York
BEGIN:DAYLIGHT
TZOFFSETFROM:-0500
TZOFFSETTO:-0400
TZNAME:EDT
DTSTART:20250309T070000
END:DAYLIGHT
BEGIN:STANDARD
TZOFFSETFROM:-0400
TZOFFSETTO:-0500
TZNAME:EST
DTSTART:20251102T060000
END:STANDARD
END:VTIMEZONE
BEGIN:VEVENT
DTSTART;TZID=America/New_York:20250423T080000
DTEND;TZID=America/New_York:20250630T170000
DTSTAMP:20260419T122059
CREATED:20250423T194835Z
LAST-MODIFIED:20250423T194835Z
UID:10000200-1745395200-1751302800@www.camdennj.gov
SUMMARY:Emergency Assistance Programs Available for Camden Residents
DESCRIPTION:Emergency Assistance Programs Available for Camden Residents\nAre you in need of emergency support with rent or utilities? The City of Camden is offering assistance to eligible residents through two important programs: \n\n🏠 Rental Assistance\nFunding is available for low-income families at risk of becoming homeless. \n📞 Contact: (856) 757-7553💰 Funded by: Emergency Solutions Grant (ESG) \n\n💡 Utility Assistance\nSupport is available for families facing PSE&G shutoff due to delinquent utility bills. \n📞 Contact: (856) 757-7339💡 Funded by: Community Development Block Grant (CDBG) \n\nEligibility:\n\n\nApplicants must be Camden residents \n\n\nAssistance is available on a first-come\, first-served basis while funding lasts \n\n\nIf you or someone you know is in need\, please don’t hesitate to reach out. Help is available. \n📍 City of Camden – Department of Human Services \n 
URL:https://www.camdennj.gov/event/emergency-assistance-programs-available-for-camden-residents/
CATEGORIES:Human Services
END:VEVENT
BEGIN:VEVENT
DTSTART;TZID=America/New_York:20250605T170000
DTEND;TZID=America/New_York:20250605T190000
DTSTAMP:20260419T122059
CREATED:20250605T181953Z
LAST-MODIFIED:20250605T181953Z
UID:10000205-1749142800-1749150000@www.camdennj.gov
SUMMARY:City Council Caucus Meeting
DESCRIPTION:06-12-2025 revised #2
URL:https://www.camdennj.gov/event/city-council-caucus-meeting/
END:VEVENT
BEGIN:VEVENT
DTSTART;TZID=America/New_York:20250612T170000
DTEND;TZID=America/New_York:20250612T190000
DTSTAMP:20260419T122059
CREATED:20250605T182250Z
LAST-MODIFIED:20250605T182250Z
UID:10000206-1749747600-1749754800@www.camdennj.gov
SUMMARY:City Council Regular Meeting
DESCRIPTION:
URL:https://www.camdennj.gov/event/city-council-regular-meeting-6/
END:VEVENT
BEGIN:VEVENT
DTSTART;TZID=America/New_York:20250618T090000
DTEND;TZID=America/New_York:20250618T140000
DTSTAMP:20260419T122059
CREATED:20250616T133526Z
LAST-MODIFIED:20250616T133526Z
UID:10000208-1750237200-1750255200@www.camdennj.gov
SUMMARY:Camden Strong Clean Camden Campaign
DESCRIPTION:On Wednesday\, June 18th\, 2025\, at Martha F. Wilson Park (4th Street & Washington Street)\, the City of Camden will host a neighborhood clean-up from 9:00am to 2:00pm. \nThis is a great opportunity to help us serve our residents by partnering with engaged and responsible Camden organizations and continuing our initiative to clean and beautify our neighborhoods\, improving the quality of life for all. \nEvent Details:\nDate: Wednesday\, June 18th\, 2025Time: 9:00am to 2:00pmLocation: Martha F. Wilson Park (4th Street & Washington Street\, Camden\, NJ) \nBreakfast\, lunch\, and all required equipment will be provided on site. All volunteers should report to the cleanup site at 9:00am sharp. Registration is required so please contact the Mayor’s Office in advance if you would like to volunteer. \nWe hope you will lend your time and energy to help keep Camden clean and strong!
URL:https://www.camdennj.gov/event/camden-strong-clean-camden-campaign-8/
LOCATION:Martha F. Wilson Park (4th Street & Washington Street)\, 4th & Washington Street\, Camden\, 08103\, United States
END:VEVENT
END:VCALENDAR