BEGIN:VCALENDAR
VERSION:2.0
PRODID:-//The City of Camden - ECPv6.14.0//NONSGML v1.0//EN
CALSCALE:GREGORIAN
METHOD:PUBLISH
X-WR-CALNAME:The City of Camden
X-ORIGINAL-URL:https://www.camdennj.gov
X-WR-CALDESC:Events for The City of Camden
REFRESH-INTERVAL;VALUE=DURATION:PT1H
X-Robots-Tag:noindex
X-PUBLISHED-TTL:PT1H
BEGIN:VTIMEZONE
TZID:America/New_York
BEGIN:DAYLIGHT
TZOFFSETFROM:-0500
TZOFFSETTO:-0400
TZNAME:EDT
DTSTART:20250309T070000
END:DAYLIGHT
BEGIN:STANDARD
TZOFFSETFROM:-0400
TZOFFSETTO:-0500
TZNAME:EST
DTSTART:20251102T060000
END:STANDARD
END:VTIMEZONE
BEGIN:VEVENT
DTSTART;TZID=America/New_York:20250401T170000
DTEND;TZID=America/New_York:20250401T190000
DTSTAMP:20260419T092020
CREATED:20250203T204834Z
LAST-MODIFIED:20250401T132733Z
UID:10000191-1743526800-1743534000@www.camdennj.gov
SUMMARY:City Council Caucus (Pre-Meeting Conference)
DESCRIPTION:4-08-2025The Pre-Meeting Conference shall be open to the public\, however\, there shall be no public participation at the Pre-Meeting Conference. Pre-Meeting Conferences occur on the first Tuesday of every month unless otherwise indicated. \n  \n  \n 
URL:https://www.camdennj.gov/event/city-council-caucus-pre-meeting-conference-18/
LOCATION:City Council Chamber\, Second Floor City Hall\, Camden\, NJ
END:VEVENT
BEGIN:VEVENT
DTSTART;TZID=America/New_York:20250402T100000
DTEND;TZID=America/New_York:20250402T230000
DTSTAMP:20260419T092020
CREATED:20250328T145811Z
LAST-MODIFIED:20250328T145954Z
UID:10000195-1743588000-1743634800@www.camdennj.gov
SUMMARY:Virtual Public Hearing
DESCRIPTION:📢 Public Hearing Announcement! 📢 \nWe invite you to join us for the discussion on the 5-Year Consolidated Plan & Annual Action Plan. Your input is important to help shape the future of our community! \n🗓 Date: April 2nd\, 2025\nPart 1: 10:00 AM – 11:00 AM\nPart 2: 2:00 PM – 3:00 PM \nHow to Join: \nPart 1 Details: \n💻 Microsoft Teams: \nMicrosoft Teams Need help? \nJoin the meeting now \nMeeting ID: 289 867 539 245 \nPasscode: Fe7XP3dk \nDial in by phone \n+1 469-998-7374\,\,404851895# United States\, Dallas \nFind a local number \nPhone conference ID: 404 851 895# \nFor organizers: Meeting options | Reset dial-in PIN \nPart 2 Details: \n💻 Microsoft Teams: \nMicrosoft Teams Need help? \nJoin the meeting now \nMeeting ID: 220 540 636 021 \nPasscode: mV9kf6FR \nDial in by phone \n+1 469-998-7374\,\,227228789# United States\, Dallas \nFind a local number \nPhone conference ID: 227 228 789# \nFor organizers: Meeting options | Reset dial-in PIN \n🗣️ Your Voice Matters! Join the conversation and help us plan for a better future!
URL:https://www.camdennj.gov/event/virtual-public-hearing/2025-04-02/1/
LOCATION:Virtual\, Link to be provided on website
CATEGORIES:Finance
END:VEVENT
BEGIN:VEVENT
DTSTART;TZID=America/New_York:20250402T140000
DTEND;TZID=America/New_York:20250402T150000
DTSTAMP:20260419T092020
CREATED:20250328T145811Z
LAST-MODIFIED:20250328T145954Z
UID:10000196-1743602400-1743606000@www.camdennj.gov
SUMMARY:Virtual Public Hearing
DESCRIPTION:📢 Public Hearing Announcement! 📢 \nWe invite you to join us for the discussion on the 5-Year Consolidated Plan & Annual Action Plan. Your input is important to help shape the future of our community! \n🗓 Date: April 2nd\, 2025\nPart 1: 10:00 AM – 11:00 AM\nPart 2: 2:00 PM – 3:00 PM \nHow to Join: \nPart 1 Details: \n💻 Microsoft Teams: \nMicrosoft Teams Need help? \nJoin the meeting now \nMeeting ID: 289 867 539 245 \nPasscode: Fe7XP3dk \nDial in by phone \n+1 469-998-7374\,\,404851895# United States\, Dallas \nFind a local number \nPhone conference ID: 404 851 895# \nFor organizers: Meeting options | Reset dial-in PIN \nPart 2 Details: \n💻 Microsoft Teams: \nMicrosoft Teams Need help? \nJoin the meeting now \nMeeting ID: 220 540 636 021 \nPasscode: mV9kf6FR \nDial in by phone \n+1 469-998-7374\,\,227228789# United States\, Dallas \nFind a local number \nPhone conference ID: 227 228 789# \nFor organizers: Meeting options | Reset dial-in PIN \n🗣️ Your Voice Matters! Join the conversation and help us plan for a better future!
URL:https://www.camdennj.gov/event/virtual-public-hearing/2025-04-02/3/
LOCATION:Virtual\, Link to be provided on website
CATEGORIES:Finance
END:VEVENT
BEGIN:VEVENT
DTSTART;TZID=America/New_York:20250408T170000
DTEND;TZID=America/New_York:20250408T190000
DTSTAMP:20260419T092020
CREATED:20250203T204801Z
LAST-MODIFIED:20250408T184923Z
UID:10000190-1744131600-1744138800@www.camdennj.gov
SUMMARY:City Council Regular Meeting
DESCRIPTION:City Council Public Meetings – 2nd Tuesday of the month unless otherwise indicated. Should there be any changes in the dates of these meetings\, the Administrative Code shall be followed and a Resolution will be adopted within the prescribed timeframe. \n4-08-2025 (revised #2)
URL:https://www.camdennj.gov/event/city-council-regular-meeting-4/
LOCATION:City Council Chamber\, Second Floor City Hall\, Camden\, NJ
END:VEVENT
BEGIN:VEVENT
DTSTART;TZID=America/New_York:20250422T090000
DTEND;TZID=America/New_York:20250422T140000
DTSTAMP:20260419T092020
CREATED:20250404T204353Z
LAST-MODIFIED:20250404T204353Z
UID:10000197-1745312400-1745330400@www.camdennj.gov
SUMMARY:Camden Strong Clean Camden Campaign
DESCRIPTION:On Tuesday\, April 22nd\, 2025 at 9:00am (RAIN OR SHINE)\, the City of Camden will conduct its next city-wide clean-up at Dudley Grange Park\, located at Federal Street and Dudley Street\, Camden\, New Jersey 08105. \nThis is a great opportunity to help us serve our residents by partnering with engaged and responsible Camden organizations and kick off the spring season by cleaning and beautifying the City neighborhoods\, improving the quality of life for all. \nEvent Details:Date: Tuesday\, April 22nd\, 2025Time: 9:00am to 2:00pmLocation: Dudley Grange Park (Federal Street & Dudley Street\, Camden\, NJ 08105) \nBreakfast\, lunch\, and all the required equipment will be provided on-site. All volunteers should report to the cleanup site at 9:00am sharp. Registration to volunteer is required—if you have not contacted the Mayor’s Office to volunteer\, please do so before the date of the clean-up. \nWe hope that you will lend your time and efforts to help us clean our city’s neighborhoods!
URL:https://www.camdennj.gov/event/camden-strong-clean-camden-campaign-4/
END:VEVENT
BEGIN:VEVENT
DTSTART;TZID=America/New_York:20250423T080000
DTEND;TZID=America/New_York:20250630T170000
DTSTAMP:20260419T092020
CREATED:20250423T194835Z
LAST-MODIFIED:20250423T194835Z
UID:10000200-1745395200-1751302800@www.camdennj.gov
SUMMARY:Emergency Assistance Programs Available for Camden Residents
DESCRIPTION:Emergency Assistance Programs Available for Camden Residents\nAre you in need of emergency support with rent or utilities? The City of Camden is offering assistance to eligible residents through two important programs: \n\n🏠 Rental Assistance\nFunding is available for low-income families at risk of becoming homeless. \n📞 Contact: (856) 757-7553💰 Funded by: Emergency Solutions Grant (ESG) \n\n💡 Utility Assistance\nSupport is available for families facing PSE&G shutoff due to delinquent utility bills. \n📞 Contact: (856) 757-7339💡 Funded by: Community Development Block Grant (CDBG) \n\nEligibility:\n\n\nApplicants must be Camden residents \n\n\nAssistance is available on a first-come\, first-served basis while funding lasts \n\n\nIf you or someone you know is in need\, please don’t hesitate to reach out. Help is available. \n📍 City of Camden – Department of Human Services \n 
URL:https://www.camdennj.gov/event/emergency-assistance-programs-available-for-camden-residents/
CATEGORIES:Human Services
END:VEVENT
BEGIN:VEVENT
DTSTART;TZID=America/New_York:20250429T090000
DTEND;TZID=America/New_York:20250429T140000
DTSTAMP:20260419T092020
CREATED:20250404T205230Z
LAST-MODIFIED:20250411T185134Z
UID:10000198-1745917200-1745935200@www.camdennj.gov
SUMMARY:Camden Strong Clean Camden Campaign
DESCRIPTION:On Tuesday\, April 29th\, 2025 at 9:00am (RAIN OR SHINE)\, the City of Camden will conduct a city-wide clean-up at Whitman Park\, located at Whitman Park Football Field (Sayrs Avenue & Davis Street\, Camden\, New Jersey 08104). \nThis is a great opportunity to help us serve our residents by partnering with engaged and responsible Camden organizations and continuing our spring initiative to clean and beautify our neighborhoods\, improving the quality of life for all. \nEvent Details:Date: Tuesday\, April 29th\, 2025Time: 9:00am to 2:00pmLocation: Whitman Park Football Field (Sayrs Avenue & Davis Street\, Camden\, NJ 08104) \nBreakfast\, lunch\, and all the required equipment will be provided on-site. All volunteers should report to the cleanup site at 9:00am sharp. Registration to volunteer is required—if you have not contacted the Mayor’s Office to volunteer\, please do so before the date of the clean-up. \nWe hope that you will lend your time and efforts to help us clean our city’s neighborhoods!
URL:https://www.camdennj.gov/event/camden-strong-clean-camden-campaign-5/
LOCATION:Whitman Park Football Field\, Sayrs Avenue & Davis Street\, Camden\, 08104\, United States
END:VEVENT
END:VCALENDAR