BEGIN:VCALENDAR
VERSION:2.0
PRODID:-//The City of Camden - ECPv6.14.0//NONSGML v1.0//EN
CALSCALE:GREGORIAN
METHOD:PUBLISH
X-ORIGINAL-URL:https://www.camdennj.gov
X-WR-CALDESC:Events for The City of Camden
REFRESH-INTERVAL;VALUE=DURATION:PT1H
X-Robots-Tag:noindex
X-PUBLISHED-TTL:PT1H
BEGIN:VTIMEZONE
TZID:America/New_York
BEGIN:DAYLIGHT
TZOFFSETFROM:-0500
TZOFFSETTO:-0400
TZNAME:EDT
DTSTART:20230312T070000
END:DAYLIGHT
BEGIN:STANDARD
TZOFFSETFROM:-0400
TZOFFSETTO:-0500
TZNAME:EST
DTSTART:20231105T060000
END:STANDARD
END:VTIMEZONE
BEGIN:VEVENT
DTSTART;TZID=America/New_York:20230816T090000
DTEND;TZID=America/New_York:20230816T130000
DTSTAMP:20260419T211507
CREATED:20230815T203613Z
LAST-MODIFIED:20230815T203613Z
UID:10000008-1692176400-1692190800@www.camdennj.gov
SUMMARY:Camden Strong Clean Camden Campaign
DESCRIPTION:2023 CAMDEN STRONG – CLEAN CAMDEN CAMPAIGN \n  \nJoin Mayor Victor G. Carstarphen on Wednesday\, August 16th\, 2023 from 9:00AM to 2:00PM (RAIN OR SHINE)\,  we want to remind you about the upcoming “Clean Camden Campaign” event scheduled this Wednesday\, August 16th \, 2023 in North Camden at Pyne Poynt Park 7th Street & Erie Street.  \n  \nAs part of our ongoing efforts to maintain the cleanliness and beauty of our city\, we invite you to be a part of this important campaign. By continuing our collective efforts\, we can make a lasting impact on the quality of life for all Camden residents. \n  \nEvent Details: Wednesday\, August 16th\, 2023  \nTime: 9:00am to 2:00pm  \nLocation: Pyne Poynt Park 7th Street & Erie Street. \n  \nBreakfast\, lunch\, and all the required equipment will be provided on-site. All volunteers should report to the cleanup site at 9:00am sharp. \n  \nPlease find attached the final and updated Camden Strong Clean Camden Campaign schedule.  There has been a change in the location for our volunteering event scheduled on Wednesday\, August 16. Instead of Staley Park\, we will now be meeting at North Camden Pyne Poynt Park\, located at 7th Street and Erie Street. \nFor additional information\, please refer to the attached files. Should you have any questions or require further assistance\, please feel free to contact the Mayor’s Office at 856-757-7200. \n  \nLet’s continue our united efforts in cleaning and improving our city’s neighborhoods as part of the ongoing Clean Camden Campaign. Your active participation will make a significant difference\, and together\, we can create a cleaner and more vibrant Camden!
URL:https://www.camdennj.gov/event/camden-strong-clean-camden-campaign/
ORGANIZER;CN="Keyann'a Watkins":MAILTO:CamdenClean@ci.camden.nj.us
END:VEVENT
BEGIN:VEVENT
DTSTART;TZID=America/New_York:20230823T090000
DTEND;TZID=America/New_York:20230823T140000
DTSTAMP:20260419T211507
CREATED:20230821T191002Z
LAST-MODIFIED:20230821T191002Z
UID:10000023-1692781200-1692799200@www.camdennj.gov
SUMMARY:Camden Strong Clean Campaign & bookbags & school supplies Giveaway
DESCRIPTION:Join Mayor Victor G. Carstarphen on Wednesday\, August 23rd\, 2023\, from 9:00AM to 2:00PM (RAIN OR SHINE)\, we want to remind you about the upcoming “Camden Strong Clean Camden Campaign” event scheduled on Wednesday\, August 23rd\, 2023 in Waterfront South Neighborhood at Liney Ditch Park.  \n  \nAs part of our ongoing efforts to maintain the cleanliness and beauty of our city\, we invite you to be a part of this important campaign. By continuing our collective efforts\, we can make a lasting impact on the quality of life for all Camden residents. \n  \nEvent Details: Wednesday\, August 23rd\, 2023 \nTime: 9:00am to 2:00pm  \nLocation: Liney Ditch Park (South 4th Street & Jasper Street)  \n  \n Should you have any questions or require further assistance\, please feel free to contact the Mayor’s Office at 856-757-7200. \n  \nLet’s continue our united efforts in cleaning and improving our city’s neighborhoods as part of the ongoing Clean Camden Campaign. Your active participation will make a significant difference\, and together\, we can create a cleaner and more vibrant Camden! \n 
URL:https://www.camdennj.gov/event/camden-strong-clean-campaign-bookbags-school-supplies-giveaway/
END:VEVENT
BEGIN:VEVENT
DTSTART;TZID=America/New_York:20230830T090000
DTEND;TZID=America/New_York:20230830T140000
DTSTAMP:20260419T211507
CREATED:20230828T195025Z
LAST-MODIFIED:20230830T125301Z
UID:10000027-1693386000-1693404000@www.camdennj.gov
SUMMARY:Camden Strong Clean Campaign Bookbags & School Supplies Giveaway!!!
DESCRIPTION:Join Mayor Victor G. Carstarphen on Wednesday\, August 30th 2023 from 9:00AM to 2:00PM (RAIN OR SHINE)\,  we want to remind you about the upcoming “Camden Strong Clean Camden Campaign” event scheduled this Wednesday\, August 30\, 2023 in the Centerville Neighborhood at Staley park. \n  \nAs part of our ongoing efforts to maintain the cleanliness and beauty of our city\, we invite you to be a part of this important campaign. By continuing our collective efforts\, we can make a lasting impact on the quality of life for all Camden residents. \n  \nThere will be bookbags and school supplies giveaway for Camden youth.  \n  \nBreakfast\, lunch\, and all the required equipment will be provided on-site. All volunteers should report to the cleanup site at 9:00am sharp. \n  \nPlease find attached the final and updated Camden Strong Clean Camden Campaign schedule. \nFor additional information\, please refer to the attached files. Should you have any questions or require further assistance\, please feel free to contact the Mayor’s Office at 856-757-7200. \n  \nLet’s continue our united efforts in cleaning and improving our city’s neighborhoods as part of the ongoing Clean Camden Campaign. Your active participation will make a significant difference\, and together\, we can create a cleaner and more vibrant Camden! \n 
URL:https://www.camdennj.gov/event/camden-strong-clean-campaign-bookbags-school-supplies-giveaway-3/
ATTACH;FMTTYPE=image/png:https://www.camdennj.gov/wp-content/uploads/2023/02/CamdenStrongSmall.png
ORGANIZER;CN="Keyann'a Watkins":MAILTO:CamdenClean@ci.camden.nj.us
END:VEVENT
END:VCALENDAR