BEGIN:VCALENDAR
VERSION:2.0
PRODID:-//The City of Camden - ECPv6.14.0//NONSGML v1.0//EN
CALSCALE:GREGORIAN
METHOD:PUBLISH
X-WR-CALNAME:The City of Camden
X-ORIGINAL-URL:https://www.camdennj.gov
X-WR-CALDESC:Events for The City of Camden
REFRESH-INTERVAL;VALUE=DURATION:PT1H
X-Robots-Tag:noindex
X-PUBLISHED-TTL:PT1H
BEGIN:VTIMEZONE
TZID:America/New_York
BEGIN:DAYLIGHT
TZOFFSETFROM:-0500
TZOFFSETTO:-0400
TZNAME:EDT
DTSTART:20230312T070000
END:DAYLIGHT
BEGIN:STANDARD
TZOFFSETFROM:-0400
TZOFFSETTO:-0500
TZNAME:EST
DTSTART:20231105T060000
END:STANDARD
BEGIN:DAYLIGHT
TZOFFSETFROM:-0500
TZOFFSETTO:-0400
TZNAME:EDT
DTSTART:20240310T070000
END:DAYLIGHT
BEGIN:STANDARD
TZOFFSETFROM:-0400
TZOFFSETTO:-0500
TZNAME:EST
DTSTART:20241103T060000
END:STANDARD
END:VTIMEZONE
BEGIN:VEVENT
DTSTART;TZID=America/New_York:20240403T120000
DTEND;TZID=America/New_York:20240403T150000
DTSTAMP:20260419T124402
CREATED:20240321T141320Z
LAST-MODIFIED:20240321T141320Z
UID:10000129-1712145600-1712156400@www.camdennj.gov
SUMMARY:National Community Development Association Week (NCDA) for the Community Development Block Grant (CDBG) 50th Anniversary Celebration - Senior Bowling and Youth Skating
DESCRIPTION:
URL:https://www.camdennj.gov/event/national-community-development-association-week-ncda-for-the-community-development-block-grant-cdbg-50th-anniversary-celebration-senior-bowling-and-youth-skating/2024-04-03/2/
LOCATION:Bowlero-The Big Event\, 1536 Kings Highway North\, Cherry Hill\, 08034
CATEGORIES:Finance,Human Services
END:VEVENT
BEGIN:VEVENT
DTSTART;TZID=America/New_York:20240403T093000
DTEND;TZID=America/New_York:20240403T113000
DTSTAMP:20260419T124402
CREATED:20240321T141320Z
LAST-MODIFIED:20240321T141320Z
UID:10000128-1712136600-1712143800@www.camdennj.gov
SUMMARY:National Community Development Association Week (NCDA) for the Community Development Block Grant (CDBG) 50th Anniversary Celebration - Senior Bowling and Youth Skating
DESCRIPTION:
URL:https://www.camdennj.gov/event/national-community-development-association-week-ncda-for-the-community-development-block-grant-cdbg-50th-anniversary-celebration-senior-bowling-and-youth-skating/2024-04-03/1/
LOCATION:Bowlero-The Big Event\, 1536 Kings Highway North\, Cherry Hill\, 08034
CATEGORIES:Finance,Human Services
END:VEVENT
BEGIN:VEVENT
DTSTART;TZID=America/New_York:20240402T170000
DTEND;TZID=America/New_York:20240402T200000
DTSTAMP:20260419T124402
CREATED:20240125T125656Z
LAST-MODIFIED:20240125T125656Z
UID:10000073-1712077200-1712088000@www.camdennj.gov
SUMMARY:City Council Caucus (Pre-Meeting Conference)
DESCRIPTION:The Pre-Meeting Conference shall be open to the public\, however\, there shall be no public participation at the Pre-Meeting Conference. \nPre-Meeting Conferences occur on the first Tuesday of every month unless otherwise indicated.
URL:https://www.camdennj.gov/event/city-council-caucus-pre-meeting-conference-8/
LOCATION:City Council Chamber\, Second Floor City Hall\, Camden\, NJ
CATEGORIES:City Clerk
END:VEVENT
BEGIN:VEVENT
DTSTART;TZID=America/New_York:20240402T163000
DTEND;TZID=America/New_York:20240402T170000
DTSTAMP:20260419T124402
CREATED:20240315T165318Z
LAST-MODIFIED:20240315T165318Z
UID:10000123-1712075400-1712077200@www.camdennj.gov
SUMMARY:City Council Special Meeting
DESCRIPTION:City Council Special Meeting – 4:30pm. \nPublic hearing and adoption of budget \nCaucus to directly follow. \n  \n 
URL:https://www.camdennj.gov/event/city-council-special-meeting-4/
LOCATION:City Council Chamber\, Second Floor City Hall\, Camden\, NJ
CATEGORIES:City Clerk
END:VEVENT
BEGIN:VEVENT
DTSTART;TZID=America/New_York:20240401T173000
DTEND;TZID=America/New_York:20240401T230000
DTSTAMP:20260419T124402
CREATED:20240206T170638Z
LAST-MODIFIED:20240206T170638Z
UID:10000101-1711992600-1712012400@www.camdennj.gov
SUMMARY:Zoning Board of Adjustment Meeting
DESCRIPTION:
URL:https://www.camdennj.gov/event/zoning-board-of-adjustment-meeting-2/
END:VEVENT
BEGIN:VEVENT
DTSTART;TZID=America/New_York:20240328T180000
DTEND;TZID=America/New_York:20240328T210000
DTSTAMP:20260419T124402
CREATED:20240206T171249Z
LAST-MODIFIED:20240206T171249Z
UID:10000105-1711648800-1711659600@www.camdennj.gov
SUMMARY:Historic Preservation Commission Meeting
DESCRIPTION:
URL:https://www.camdennj.gov/event/historic-preservation-commission-meeting-2/
END:VEVENT
BEGIN:VEVENT
DTSTART;TZID=America/New_York:20240320T080000
DTEND;TZID=America/New_York:20240510T170000
DTSTAMP:20260419T124402
CREATED:20240320T133919Z
LAST-MODIFIED:20240320T133919Z
UID:10000127-1710921600-1715360400@www.camdennj.gov
SUMMARY:Adult Summer Employment
DESCRIPTION:
URL:https://www.camdennj.gov/event/adult-summer-employment/
END:VEVENT
BEGIN:VEVENT
DTSTART;TZID=America/New_York:20240314T180000
DTEND;TZID=America/New_York:20240314T230000
DTSTAMP:20260419T124402
CREATED:20240206T154056Z
LAST-MODIFIED:20240206T154056Z
UID:10000085-1710439200-1710457200@www.camdennj.gov
SUMMARY:Planning Board Meeting
DESCRIPTION:
URL:https://www.camdennj.gov/event/planning-board-meeting-3/
END:VEVENT
BEGIN:VEVENT
DTSTART;TZID=America/New_York:20240312T170000
DTEND;TZID=America/New_York:20240312T200000
DTSTAMP:20260419T124402
CREATED:20240125T124826Z
LAST-MODIFIED:20240125T124826Z
UID:10000060-1710262800-1710273600@www.camdennj.gov
SUMMARY:City Council Public Meeting
DESCRIPTION:City Council Public Meetings – 2nd Tuesday of the month unless otherwise indicated. \nShould there be any changes in the dates of these meetings\, the Administrative Code shall be followed and a Resolution will be adopted within the prescribed timeframe.
URL:https://www.camdennj.gov/event/city-council-public-meeting-7/
LOCATION:City Council Chamber\, Second Floor City Hall\, Camden\, NJ
CATEGORIES:City Clerk
END:VEVENT
BEGIN:VEVENT
DTSTART;TZID=America/New_York:20240305T170000
DTEND;TZID=America/New_York:20240305T200000
DTSTAMP:20260419T124402
CREATED:20240125T125624Z
LAST-MODIFIED:20240125T125624Z
UID:10000072-1709658000-1709668800@www.camdennj.gov
SUMMARY:City Council Caucus (Pre-Meeting Conference)
DESCRIPTION:The Pre-Meeting Conference shall be open to the public\, however\, there shall be no public participation at the Pre-Meeting Conference. \nPre-Meeting Conferences occur on the first Tuesday of every month unless otherwise indicated.
URL:https://www.camdennj.gov/event/city-council-caucus-pre-meeting-conference-7/
LOCATION:City Council Chamber\, Second Floor City Hall\, Camden\, NJ
CATEGORIES:City Clerk
END:VEVENT
BEGIN:VEVENT
DTSTART;TZID=America/New_York:20240304T173000
DTEND;TZID=America/New_York:20240304T230000
DTSTAMP:20260419T124402
CREATED:20240206T170544Z
LAST-MODIFIED:20240206T170544Z
UID:10000100-1709573400-1709593200@www.camdennj.gov
SUMMARY:Zoning Board of Adjustment Meeting
DESCRIPTION:
URL:https://www.camdennj.gov/event/zoning-board-of-adjustment-meeting/
END:VEVENT
BEGIN:VEVENT
DTSTART;TZID=America/New_York:20240229T170000
DTEND;TZID=America/New_York:20240229T200000
DTSTAMP:20260419T124402
CREATED:20240222T200308Z
LAST-MODIFIED:20240222T200308Z
UID:10000121-1709226000-1709236800@www.camdennj.gov
SUMMARY:City Council Special Meeting
DESCRIPTION:City Council Special Meeting 2/29/24 @ 5pm City Council Chambers
URL:https://www.camdennj.gov/event/city-council-special-meeting-3/
LOCATION:City Council Chamber\, Second Floor City Hall\, Camden\, NJ
CATEGORIES:City Clerk
END:VEVENT
BEGIN:VEVENT
DTSTART;TZID=America/New_York:20240222T180000
DTEND;TZID=America/New_York:20240222T210000
DTSTAMP:20260419T124402
CREATED:20240206T153947Z
LAST-MODIFIED:20240206T153947Z
UID:10000084-1708624800-1708635600@www.camdennj.gov
SUMMARY:Historic Preservation Commission Meeting
DESCRIPTION:
URL:https://www.camdennj.gov/event/historic-preservation-commission-meeting/
END:VEVENT
BEGIN:VEVENT
DTSTART;TZID=America/New_York:20240213T170000
DTEND;TZID=America/New_York:20240213T200000
DTSTAMP:20260419T124402
CREATED:20240125T124657Z
LAST-MODIFIED:20240125T124657Z
UID:10000059-1707843600-1707854400@www.camdennj.gov
SUMMARY:City Council Public Meeting
DESCRIPTION:City Council Public Meetings – 2nd Tuesday of the month unless otherwise indicated. \nShould there be any changes in the dates of these meetings\, the Administrative Code shall be followed and a Resolution will be adopted within the prescribed timeframe.
URL:https://www.camdennj.gov/event/city-council-public-meeting-6/
LOCATION:City Council Chamber\, Second Floor City Hall\, Camden\, NJ
CATEGORIES:City Clerk
END:VEVENT
BEGIN:VEVENT
DTSTART;TZID=America/New_York:20240209T180000
DTEND;TZID=America/New_York:20240209T230000
DTSTAMP:20260419T124402
CREATED:20240206T170028Z
LAST-MODIFIED:20240206T170028Z
UID:10000099-1707501600-1707519600@www.camdennj.gov
SUMMARY:Planning Board Meeting
DESCRIPTION:
URL:https://www.camdennj.gov/event/planning-board-meeting-2/
END:VEVENT
BEGIN:VEVENT
DTSTART;TZID=America/New_York:20240206T170000
DTEND;TZID=America/New_York:20240206T200000
DTSTAMP:20260419T124402
CREATED:20240125T125552Z
LAST-MODIFIED:20240125T125552Z
UID:10000071-1707238800-1707249600@www.camdennj.gov
SUMMARY:City Council Caucus (Pre-Meeting Conference)
DESCRIPTION:The Pre-Meeting Conference shall be open to the public\, however\, there shall be no public participation at the Pre-Meeting Conference. \nPre-Meeting Conferences occur on the first Tuesday of every month unless otherwise indicated.
URL:https://www.camdennj.gov/event/city-council-caucus-pre-meeting-conference-6/
LOCATION:City Council Chamber\, Second Floor City Hall\, Camden\, NJ
CATEGORIES:City Clerk
END:VEVENT
BEGIN:VEVENT
DTSTART;TZID=America/New_York:20240113T100000
DTEND;TZID=America/New_York:20240113T150000
DTSTAMP:20260419T124402
CREATED:20240104T202859Z
LAST-MODIFIED:20240104T202859Z
UID:10000057-1705140000-1705158000@www.camdennj.gov
SUMMARY:City of Camden Martin Luther King\, Jr. Day
DESCRIPTION:This year’s service initiative\, titled “Unity in Wellness: Bridging Gaps\, Building Health\,” underscores the collective commitment required to address health and wellness disparities within our community. \nOur goal with this project is to unite local resources\, healthcare professionals\, and anchor institutions to orchestrate a comprehensive event. During the event\, residents will have access to vital services\, including health screenings\, nutrition counseling\, and assistance with health insurance enrollment. \n\nEvent: City of Camden MLK Day of Service –  Unity in Wellness: Bridging Gaps\, Building Health\nDate: Saturday\, January 13\, 2024\nVolunteer Hours: 10:00AM-3:00PM\nAddress:Roberto Clemente Gymnasium at the North Camden Community Center(1000 North 6th Street Camden\, NJ 08102) \n\n\nFor any inquiries or additional information\, please feel free to reach out to the Mayor’s Office at 856-757-7200.
URL:https://www.camdennj.gov/event/city-of-camden-martin-luther-king-jr-day/
LOCATION:Roberto Clemente Gymnasium at the North Camden Community Center  (1000 North 6th Street Camden\, NJ 08102)\, 1000 North 6th Street\, Camden\, NJ\, United States\, 08101\, United States
ORGANIZER;CN="Keyann'a Watkins":MAILTO:CamdenClean@ci.camden.nj.us
END:VEVENT
BEGIN:VEVENT
DTSTART;TZID=America/New_York:20240109T170000
DTEND;TZID=America/New_York:20240109T200000
DTSTAMP:20260419T124402
CREATED:20240125T124619Z
LAST-MODIFIED:20240125T124619Z
UID:10000058-1704819600-1704830400@www.camdennj.gov
SUMMARY:City Council Public Meeting
DESCRIPTION:City Council Public Meetings – 2nd Tuesday of the month unless otherwise indicated. \nShould there be any changes in the dates of these meetings\, the Administrative Code shall be followed and a Resolution will be adopted within the prescribed timeframe.
URL:https://www.camdennj.gov/event/city-council-public-meeting-5/
LOCATION:City Council Chamber\, Second Floor City Hall\, Camden\, NJ
CATEGORIES:City Clerk
END:VEVENT
BEGIN:VEVENT
DTSTART;TZID=America/New_York:20240106T120000
DTEND;TZID=America/New_York:20240106T160000
DTSTAMP:20260419T124402
CREATED:20240104T202454Z
LAST-MODIFIED:20240104T202454Z
UID:10000056-1704542400-1704556800@www.camdennj.gov
SUMMARY:Camden Celebrates El Día de Los Reyes As Three Kings Visit City
DESCRIPTION:Mayor Victor G. Carstarphen\, City Council Members\, Camden City School District\, Parents Invincible\, La Ingrata\, and Freddy’s Restaurant\, along with event supporters Luis Records & Electronics\, WeCare Home Care Agency\, Ritmo 104.1FM\, Deptford\, NJ Elks Lodge #2708\, Parada San Juan Bautista\, Inc.\, Joe Incandela\, Karen’s Blings & Things\, and The Hinson Family Foundation\, will join community members to celebrate Three Kings Day or El Día de Los Reyes at a free community event on Saturday\, January 6\, 2024 from 12:00 p.m. to 4:00 p.m. \nThe City of Camden will celebrate Three Kings Day with its annual event held at the Roberto Clemente Gymnasium at the North Camden Community Center located at 1000 North 6th Street Camden\, NJ 08102.  The free community event will include food\, live music\, games\, gifts\, and an appearance from the three kings themselves.  For more information about this event\, please contact the Office of the Mayor at 856-757-7200. \n  \nWHAT:          The City of Camden Three Kings Day Celebration \nWHEN:          Saturday\, January 6\, 2024 from 12:00 p.m. to 4:00 p.m. \nWHERE:       Roberto Clemente Gymnasium at the North Camden Community Center  \n(1000 North 6th Street Camden\, NJ 08102) \n  \n 
URL:https://www.camdennj.gov/event/camden-celebrates-el-dia-de-los-reyes-as-three-kings-visit-city/
LOCATION:Roberto Clemente Gymnasium at the North Camden Community Center  (1000 North 6th Street Camden\, NJ 08102)\, 1000 North 6th Street\, Camden\, NJ\, United States\, 08101\, United States
ORGANIZER;CN="Keyann'a Watkins":MAILTO:CamdenClean@ci.camden.nj.us
END:VEVENT
BEGIN:VEVENT
DTSTART;TZID=America/New_York:20240102T170000
DTEND;TZID=America/New_York:20240102T200000
DTSTAMP:20260419T124402
CREATED:20240125T125519Z
LAST-MODIFIED:20240125T125519Z
UID:10000070-1704214800-1704225600@www.camdennj.gov
SUMMARY:City Council Caucus (Pre-Meeting Conference)
DESCRIPTION:The Pre-Meeting Conference shall be open to the public\, however\, there shall be no public participation at the Pre-Meeting Conference. \nPre-Meeting Conferences occur on the first Tuesday of every month unless otherwise indicated. \n 
URL:https://www.camdennj.gov/event/city-council-caucus-pre-meeting-conference/
LOCATION:City Council Chamber\, Second Floor City Hall\, Camden\, NJ
CATEGORIES:City Clerk
END:VEVENT
BEGIN:VEVENT
DTSTART;TZID=America/New_York:20231215T033000
DTEND;TZID=America/New_York:20231215T170000
DTSTAMP:20260419T124402
CREATED:20231211T152329Z
LAST-MODIFIED:20231211T152329Z
UID:10000054-1702611000-1702659600@www.camdennj.gov
SUMMARY:Feral Cat ADHOC Committee Meeting (Zoom)
DESCRIPTION:Topic: Feral Cat Ad Hoc \nTime: Dec 15\, 2023 03:30 PM Eastern Time (US and Canada) \n  \nJoin Zoom Meeting \nhttps://us02web.zoom.us/j/88354105878?pwd=RnV2ZVlSREZlR09QbnJlcnZCN3Vxdz09 \n  \n  \nMeeting ID: 883 5410 5878 \nPasscode: 459412 \n  \n— \n  \nOne tap mobile \n+13017158592\,\,88354105878#\,\,\,\,*459412# US (Washington DC) \n+13052241968\,\,88354105878#\,\,\,\,*459412# US \n  \n— \n  \nDial by your location \n\n+1 301 715 8592 US (Washington DC)\n+1 305 224 1968 US\n+1 309 205 3325 US\n+1 312 626 6799 US (Chicago)\n+1 646 931 3860 US\n+1 929 205 6099 US (New York)\n+1 564 217 2000 US\n+1 669 444 9171 US\n+1 669 900 6833 US (San Jose)\n+1 689 278 1000 US\n+1 719 359 4580 US\n+1 253 205 0468 US\n+1 253 215 8782 US (Tacoma)\n+1 346 248 7799 US (Houston)\n+1 360 209 5623 US\n+1 386 347 5053 US\n+1 507 473 4847 US\n\n  \nMeeting ID: 883 5410 5878 \nPasscode: 459412 \n  \nFind your local number: https://us02web.zoom.us/u/kcJQah1NrB
URL:https://www.camdennj.gov/event/feral-cat-adhoc-committee-meeting-zoom/
END:VEVENT
BEGIN:VEVENT
DTSTART;TZID=America/New_York:20231214T170000
DTEND;TZID=America/New_York:20231214T210000
DTSTAMP:20260419T124402
CREATED:20231207T232413Z
LAST-MODIFIED:20231207T232413Z
UID:10000052-1702573200-1702587600@www.camdennj.gov
SUMMARY:Camden City Night and 23rd Anniversary of Millenium Skate World
DESCRIPTION:Join us for Camden City Night and celebrate our 23rd Anniversary at Millenium Skate World on Thursday\, December 14th!!! FREE admission for Camden residents!!
URL:https://www.camdennj.gov/event/camden-city-night-and-23rd-anniversary-of-millenium-skate-world/
LOCATION:Millennium Skate World\, 1900 Carman Street\, Camden\, 08105\, United States
CATEGORIES:Office of the Mayor & Public Information
END:VEVENT
BEGIN:VEVENT
DTSTART;TZID=America/New_York:20231212T170000
DTEND;TZID=America/New_York:20231212T200000
DTSTAMP:20260419T124402
CREATED:20231207T185552Z
LAST-MODIFIED:20231207T185552Z
UID:10000051-1702400400-1702411200@www.camdennj.gov
SUMMARY:Haason Reddick Lucky Christmas
DESCRIPTION:
URL:https://www.camdennj.gov/event/haason-reddick-lucky-christmas/
CATEGORIES:Office of the Mayor & Public Information
END:VEVENT
BEGIN:VEVENT
DTSTART;TZID=America/New_York:20231212T170000
DTEND;TZID=America/New_York:20231212T200000
DTSTAMP:20260419T124402
CREATED:20230816T130215Z
LAST-MODIFIED:20230830T183702Z
UID:10000018-1702400400-1702411200@www.camdennj.gov
SUMMARY:City Council Public Meeting
DESCRIPTION:City Council Public Meetings – 2nd Tuesday of the month unless otherwise indicated. \nShould there be any changes in the dates of these meetings\, the Administrative Code shall be followed and a Resolution will be adopted within the prescribed timeframe.
URL:https://www.camdennj.gov/event/city-council-public-meeting-4/
LOCATION:City Council Chamber\, Second Floor City Hall\, Camden\, NJ
CATEGORIES:City Clerk
END:VEVENT
BEGIN:VEVENT
DTSTART;TZID=America/New_York:20231211T170000
DTEND;TZID=America/New_York:20231211T200000
DTSTAMP:20260419T124402
CREATED:20230816T132121Z
LAST-MODIFIED:20230816T132121Z
UID:10000022-1702314000-1702324800@www.camdennj.gov
SUMMARY:ABC Meeting
DESCRIPTION:Municipal Board of Alcoholic Beverage Control Meeting
URL:https://www.camdennj.gov/event/abc-meeting-4/
LOCATION:Virtual\, Link to be provided on website
CATEGORIES:City Clerk
END:VEVENT
BEGIN:VEVENT
DTSTART;TZID=America/New_York:20231205T170000
DTEND;TZID=America/New_York:20231205T200000
DTSTAMP:20260419T124402
CREATED:20230816T125434Z
LAST-MODIFIED:20230816T125434Z
UID:10000014-1701795600-1701806400@www.camdennj.gov
SUMMARY:City Council Caucus (Pre-Meeting Conference)
DESCRIPTION:The Pre-Meeting Conference shall be open to the public\, however\, there shall be no public participation at the Pre-Meeting Conference.
URL:https://www.camdennj.gov/event/city-council-caucus-pre-meeting-conference-4/
LOCATION:City Council Chamber\, Second Floor City Hall\, Camden\, NJ
CATEGORIES:City Clerk
END:VEVENT
BEGIN:VEVENT
DTSTART;TZID=America/New_York:20231116T170000
DTEND;TZID=America/New_York:20231116T200000
DTSTAMP:20260419T124402
CREATED:20231005T145342Z
LAST-MODIFIED:20231005T145342Z
UID:10000041-1700154000-1700164800@www.camdennj.gov
SUMMARY:City Council Public Meeting
DESCRIPTION:City Council Public Meetings – 2nd Tuesday of the month unless otherwise indicated. \nShould there be any changes in the dates of these meetings\, the Administrative Code shall be followed and a Resolution will be adopted within the prescribed timeframe.
URL:https://www.camdennj.gov/event/city-council-public-meeting-3/
LOCATION:City Council Chamber\, Second Floor City Hall\, Camden\, NJ
CATEGORIES:City Clerk
END:VEVENT
BEGIN:VEVENT
DTSTART;TZID=America/New_York:20231113T170000
DTEND;TZID=America/New_York:20231113T200000
DTSTAMP:20260419T124402
CREATED:20230816T132045Z
LAST-MODIFIED:20230816T132045Z
UID:10000021-1699894800-1699905600@www.camdennj.gov
SUMMARY:ABC Meeting
DESCRIPTION:Municipal Board of Alcoholic Beverage Control Meeting
URL:https://www.camdennj.gov/event/abc-meeting-3/
LOCATION:Virtual\, Link to be provided on website
CATEGORIES:City Clerk
END:VEVENT
BEGIN:VEVENT
DTSTART;TZID=America/New_York:20231109T170000
DTEND;TZID=America/New_York:20231109T200000
DTSTAMP:20260419T124402
CREATED:20230816T125352Z
LAST-MODIFIED:20230816T125352Z
UID:10000013-1699549200-1699560000@www.camdennj.gov
SUMMARY:City Council Caucus (Pre-Meeting Conference)
DESCRIPTION:The Pre-Meeting Conference shall be open to the public\, however\, there shall be no public participation at the Pre-Meeting Conference.
URL:https://www.camdennj.gov/event/city-council-caucus-pre-meeting-conference-3/
LOCATION:City Council Chamber\, Second Floor City Hall\, Camden\, NJ
CATEGORIES:City Clerk
END:VEVENT
BEGIN:VEVENT
DTSTART;TZID=America/New_York:20231028T120000
DTEND;TZID=America/New_York:20231028T160000
DTSTAMP:20260419T124402
CREATED:20231005T190158Z
LAST-MODIFIED:20231005T190158Z
UID:10000045-1698494400-1698508800@www.camdennj.gov
SUMMARY:City of Camden Trunk or Treat
DESCRIPTION:City of Camden Trunk or Treat! Saturday\, October 28th (12-4pm) at Cooper’s Poynt Waterfront Park.  Free for Camden residents! Info call\, 856-757-7286
URL:https://www.camdennj.gov/event/city-of-camden-trunk-or-treat/
LOCATION:Coopers’s Poynt Waterfront Park\, 801 Delaware Avenue\, Camden\, 08103\, United States
CATEGORIES:Office of the Mayor & Public Information
END:VEVENT
END:VCALENDAR