BEGIN:VCALENDAR
VERSION:2.0
PRODID:-//The City of Camden - ECPv6.14.0//NONSGML v1.0//EN
CALSCALE:GREGORIAN
METHOD:PUBLISH
X-WR-CALNAME:The City of Camden
X-ORIGINAL-URL:https://www.camdennj.gov
X-WR-CALDESC:Events for The City of Camden
REFRESH-INTERVAL;VALUE=DURATION:PT1H
X-Robots-Tag:noindex
X-PUBLISHED-TTL:PT1H
BEGIN:VTIMEZONE
TZID:America/New_York
BEGIN:DAYLIGHT
TZOFFSETFROM:-0500
TZOFFSETTO:-0400
TZNAME:EDT
DTSTART:20230312T070000
END:DAYLIGHT
BEGIN:STANDARD
TZOFFSETFROM:-0400
TZOFFSETTO:-0500
TZNAME:EST
DTSTART:20231105T060000
END:STANDARD
END:VTIMEZONE
BEGIN:VEVENT
DTSTART;TZID=America/New_York:20230424T180000
DTEND;TZID=America/New_York:20230424T190000
DTSTAMP:20260419T200308
CREATED:20230407T032024Z
LAST-MODIFIED:20230407T032024Z
UID:10000003-1682359200-1682362800@www.camdennj.gov
SUMMARY:Parking Authority Meeting
DESCRIPTION:10 Delaware Ave – Administration Office
URL:https://www.camdennj.gov/event/parking-authority-meeting/
CATEGORIES:Office of the Mayor & Public Information
END:VEVENT
BEGIN:VEVENT
DTSTART;TZID=America/New_York:20230413T180000
DTEND;TZID=America/New_York:20230413T190000
DTSTAMP:20260419T200308
CREATED:20230407T031817Z
LAST-MODIFIED:20230407T031817Z
UID:10000002-1681408800-1681412400@www.camdennj.gov
SUMMARY:Planning Board Meeting
DESCRIPTION:Camden City Hall\, Camden\, NJ 08102\, USA
URL:https://www.camdennj.gov/event/planning-board-meeting/
CATEGORIES:Office of the Mayor & Public Information
END:VEVENT
BEGIN:VEVENT
DTSTART;TZID=America/New_York:20230411T170000
DTEND;TZID=America/New_York:20230411T230000
DTSTAMP:20260419T200308
CREATED:20230407T031413Z
LAST-MODIFIED:20230407T031413Z
UID:10000001-1681232400-1681254000@www.camdennj.gov
SUMMARY:Camden City Council Meeting
DESCRIPTION:Camden City Council Chambers; City Hall (2nd Floor)
URL:https://www.camdennj.gov/event/camden-city-council-meeting/
CATEGORIES:Office of the Mayor & Public Information
END:VEVENT
END:VCALENDAR