BEGIN:VCALENDAR
VERSION:2.0
PRODID:-//The City of Camden - ECPv6.14.0//NONSGML v1.0//EN
CALSCALE:GREGORIAN
METHOD:PUBLISH
X-ORIGINAL-URL:https://www.camdennj.gov
X-WR-CALDESC:Events for The City of Camden
REFRESH-INTERVAL;VALUE=DURATION:PT1H
X-Robots-Tag:noindex
X-PUBLISHED-TTL:PT1H
BEGIN:VTIMEZONE
TZID:America/New_York
BEGIN:DAYLIGHT
TZOFFSETFROM:-0500
TZOFFSETTO:-0400
TZNAME:EDT
DTSTART:20250309T070000
END:DAYLIGHT
BEGIN:STANDARD
TZOFFSETFROM:-0400
TZOFFSETTO:-0500
TZNAME:EST
DTSTART:20251102T060000
END:STANDARD
END:VTIMEZONE
BEGIN:VEVENT
DTSTART;VALUE=DATE:20250904
DTEND;VALUE=DATE:20250905
DTSTAMP:20260419T195506
CREATED:20250828T182615Z
LAST-MODIFIED:20250828T182615Z
UID:10000223-1756944000-1757030399@www.camdennj.gov
SUMMARY:📢 Public Hearing Notice 📢
DESCRIPTION:The City of Camden invites residents to attend the upcoming C.A.P.E.R. Public Hearing. \n📅 Thursday\, September 4\, 2025🕔 5:00 PM – 6:00 PM📍 Malandra Hall Community Center1200 S. Merrimac Rd\, Camden\, NJ 08104 \nThis hearing provides an opportunity for residents to learn more\, share feedback\, and engage with the City regarding community programs and funding. \nFor more information\, please contact the Bureau of Grants Management at (856) 757-7689. \n#CamdenNJ #PublicHearing #CommunityEngagement #CAPER
URL:https://www.camdennj.gov/event/%f0%9f%93%a2-public-hearing-notice-%f0%9f%93%a2/
LOCATION:Malandra Hall Community Center\, 1200 S. Merrimac Rd\, Camden\, 08104\, United States
CATEGORIES:Finance
END:VEVENT
END:VCALENDAR