BEGIN:VCALENDAR
VERSION:2.0
PRODID:-//The City of Camden - ECPv6.14.0//NONSGML v1.0//EN
CALSCALE:GREGORIAN
METHOD:PUBLISH
X-ORIGINAL-URL:https://www.camdennj.gov
X-WR-CALDESC:Events for The City of Camden
REFRESH-INTERVAL;VALUE=DURATION:PT1H
X-Robots-Tag:noindex
X-PUBLISHED-TTL:PT1H
BEGIN:VTIMEZONE
TZID:America/New_York
BEGIN:DAYLIGHT
TZOFFSETFROM:-0500
TZOFFSETTO:-0400
TZNAME:EDT
DTSTART:20250309T070000
END:DAYLIGHT
BEGIN:STANDARD
TZOFFSETFROM:-0400
TZOFFSETTO:-0500
TZNAME:EST
DTSTART:20251102T060000
END:STANDARD
END:VTIMEZONE
BEGIN:VEVENT
DTSTART;TZID=America/New_York:20251113T170000
DTEND;TZID=America/New_York:20251113T190000
DTSTAMP:20260419T134349
CREATED:20250808T173353Z
LAST-MODIFIED:20251113T203907Z
UID:10000214-1763053200-1763060400@www.camdennj.gov
SUMMARY:City Council Regular Meeting 11-13-25
DESCRIPTION:11-13-2025 #6
URL:https://www.camdennj.gov/event/city-council-regular-meeting-10/
LOCATION:City Council Chamber\, Second Floor City Hall\, Camden\, NJ
CATEGORIES:City Clerk
END:VEVENT
END:VCALENDAR