BEGIN:VCALENDAR
VERSION:2.0
PRODID:-//The City of Camden - ECPv6.14.0//NONSGML v1.0//EN
CALSCALE:GREGORIAN
METHOD:PUBLISH
X-ORIGINAL-URL:https://www.camdennj.gov
X-WR-CALDESC:Events for The City of Camden
REFRESH-INTERVAL;VALUE=DURATION:PT1H
X-Robots-Tag:noindex
X-PUBLISHED-TTL:PT1H
BEGIN:VTIMEZONE
TZID:America/New_York
BEGIN:DAYLIGHT
TZOFFSETFROM:-0500
TZOFFSETTO:-0400
TZNAME:EDT
DTSTART:20250309T070000
END:DAYLIGHT
BEGIN:STANDARD
TZOFFSETFROM:-0400
TZOFFSETTO:-0500
TZNAME:EST
DTSTART:20251102T060000
END:STANDARD
END:VTIMEZONE
BEGIN:VEVENT
DTSTART;TZID=America/New_York:20250812T170000
DTEND;TZID=America/New_York:20250812T190000
DTSTAMP:20260419T163735
CREATED:20250808T164228Z
LAST-MODIFIED:20250808T164442Z
UID:10000211-1755018000-1755025200@www.camdennj.gov
SUMMARY:City Council Regular Meeting
DESCRIPTION:08-12-2025 Revised #3
URL:https://www.camdennj.gov/event/city-council-regular-meeting-7/
LOCATION:City Council Chamber\, Second Floor City Hall\, Camden\, NJ
CATEGORIES:City Clerk
END:VEVENT
END:VCALENDAR