BEGIN:VCALENDAR
VERSION:2.0
PRODID:-//The City of Camden - ECPv6.14.0//NONSGML v1.0//EN
CALSCALE:GREGORIAN
METHOD:PUBLISH
X-ORIGINAL-URL:https://www.camdennj.gov
X-WR-CALDESC:Events for The City of Camden
REFRESH-INTERVAL;VALUE=DURATION:PT1H
X-Robots-Tag:noindex
X-PUBLISHED-TTL:PT1H
BEGIN:VTIMEZONE
TZID:America/New_York
BEGIN:DAYLIGHT
TZOFFSETFROM:-0500
TZOFFSETTO:-0400
TZNAME:EDT
DTSTART:20250309T070000
END:DAYLIGHT
BEGIN:STANDARD
TZOFFSETFROM:-0400
TZOFFSETTO:-0500
TZNAME:EST
DTSTART:20251102T060000
END:STANDARD
END:VTIMEZONE
BEGIN:VEVENT
DTSTART;TZID=America/New_York:20250423T080000
DTEND;TZID=America/New_York:20250630T170000
DTSTAMP:20260419T122050
CREATED:20250423T194835Z
LAST-MODIFIED:20250423T194835Z
UID:10000200-1745395200-1751302800@www.camdennj.gov
SUMMARY:Emergency Assistance Programs Available for Camden Residents
DESCRIPTION:Emergency Assistance Programs Available for Camden Residents\nAre you in need of emergency support with rent or utilities? The City of Camden is offering assistance to eligible residents through two important programs: \n\n🏠 Rental Assistance\nFunding is available for low-income families at risk of becoming homeless. \n📞 Contact: (856) 757-7553💰 Funded by: Emergency Solutions Grant (ESG) \n\n💡 Utility Assistance\nSupport is available for families facing PSE&G shutoff due to delinquent utility bills. \n📞 Contact: (856) 757-7339💡 Funded by: Community Development Block Grant (CDBG) \n\nEligibility:\n\n\nApplicants must be Camden residents \n\n\nAssistance is available on a first-come\, first-served basis while funding lasts \n\n\nIf you or someone you know is in need\, please don’t hesitate to reach out. Help is available. \n📍 City of Camden – Department of Human Services \n 
URL:https://www.camdennj.gov/event/emergency-assistance-programs-available-for-camden-residents/
CATEGORIES:Human Services
END:VEVENT
BEGIN:VEVENT
DTSTART;TZID=America/New_York:20250506T170000
DTEND;TZID=America/New_York:20250506T190000
DTSTAMP:20260419T122050
CREATED:20250203T204942Z
LAST-MODIFIED:20250505T143912Z
UID:10000193-1746550800-1746558000@www.camdennj.gov
SUMMARY:City Council Caucus (Pre-Meeting Conference)
DESCRIPTION:5-13-2025The Pre-Meeting Conference shall be open to the public\, however\, there shall be no public participation at the Pre-Meeting Conference. Pre-Meeting Conferences occur on the first Tuesday of every month unless otherwise indicated. \n  \n  \n 
URL:https://www.camdennj.gov/event/city-council-caucus-pre-meeting-conference-19/
LOCATION:City Council Chamber\, Second Floor City Hall\, Camden\, NJ
END:VEVENT
END:VCALENDAR