BEGIN:VCALENDAR
VERSION:2.0
PRODID:-//The City of Camden - ECPv6.14.0//NONSGML v1.0//EN
CALSCALE:GREGORIAN
METHOD:PUBLISH
X-WR-CALNAME:The City of Camden
X-ORIGINAL-URL:https://www.camdennj.gov
X-WR-CALDESC:Events for The City of Camden
REFRESH-INTERVAL;VALUE=DURATION:PT1H
X-Robots-Tag:noindex
X-PUBLISHED-TTL:PT1H
BEGIN:VTIMEZONE
TZID:America/New_York
BEGIN:DAYLIGHT
TZOFFSETFROM:-0500
TZOFFSETTO:-0400
TZNAME:EDT
DTSTART:20230312T070000
END:DAYLIGHT
BEGIN:STANDARD
TZOFFSETFROM:-0400
TZOFFSETTO:-0500
TZNAME:EST
DTSTART:20231105T060000
END:STANDARD
END:VTIMEZONE
BEGIN:VEVENT
DTSTART;TZID=America/New_York:20231212T170000
DTEND;TZID=America/New_York:20231212T200000
DTSTAMP:20260419T163622
CREATED:20230816T130215Z
LAST-MODIFIED:20230830T183702Z
UID:10000018-1702400400-1702411200@www.camdennj.gov
SUMMARY:City Council Public Meeting
DESCRIPTION:City Council Public Meetings – 2nd Tuesday of the month unless otherwise indicated. \nShould there be any changes in the dates of these meetings\, the Administrative Code shall be followed and a Resolution will be adopted within the prescribed timeframe.
URL:https://www.camdennj.gov/event/city-council-public-meeting-4/
LOCATION:City Council Chamber\, Second Floor City Hall\, Camden\, NJ
CATEGORIES:City Clerk
END:VEVENT
BEGIN:VEVENT
DTSTART;TZID=America/New_York:20231212T170000
DTEND;TZID=America/New_York:20231212T200000
DTSTAMP:20260419T163622
CREATED:20231207T185552Z
LAST-MODIFIED:20231207T185552Z
UID:10000051-1702400400-1702411200@www.camdennj.gov
SUMMARY:Haason Reddick Lucky Christmas
DESCRIPTION:
URL:https://www.camdennj.gov/event/haason-reddick-lucky-christmas/
CATEGORIES:Office of the Mayor & Public Information
END:VEVENT
END:VCALENDAR