BEGIN:VCALENDAR
VERSION:2.0
PRODID:-//The City of Camden - ECPv6.14.0//NONSGML v1.0//EN
CALSCALE:GREGORIAN
METHOD:PUBLISH
X-ORIGINAL-URL:https://www.camdennj.gov
X-WR-CALDESC:Events for The City of Camden
REFRESH-INTERVAL;VALUE=DURATION:PT1H
X-Robots-Tag:noindex
X-PUBLISHED-TTL:PT1H
BEGIN:VTIMEZONE
TZID:America/New_York
BEGIN:DAYLIGHT
TZOFFSETFROM:-0500
TZOFFSETTO:-0400
TZNAME:EDT
DTSTART:20230312T070000
END:DAYLIGHT
BEGIN:STANDARD
TZOFFSETFROM:-0400
TZOFFSETTO:-0500
TZNAME:EST
DTSTART:20231105T060000
END:STANDARD
END:VTIMEZONE
BEGIN:VEVENT
DTSTART;TZID=America/New_York:20230823T090000
DTEND;TZID=America/New_York:20230823T140000
DTSTAMP:20260419T224921
CREATED:20230821T191002Z
LAST-MODIFIED:20230821T191002Z
UID:10000023-1692781200-1692799200@www.camdennj.gov
SUMMARY:Camden Strong Clean Campaign & bookbags & school supplies Giveaway
DESCRIPTION:Join Mayor Victor G. Carstarphen on Wednesday\, August 23rd\, 2023\, from 9:00AM to 2:00PM (RAIN OR SHINE)\, we want to remind you about the upcoming “Camden Strong Clean Camden Campaign” event scheduled on Wednesday\, August 23rd\, 2023 in Waterfront South Neighborhood at Liney Ditch Park.  \n  \nAs part of our ongoing efforts to maintain the cleanliness and beauty of our city\, we invite you to be a part of this important campaign. By continuing our collective efforts\, we can make a lasting impact on the quality of life for all Camden residents. \n  \nEvent Details: Wednesday\, August 23rd\, 2023 \nTime: 9:00am to 2:00pm  \nLocation: Liney Ditch Park (South 4th Street & Jasper Street)  \n  \n Should you have any questions or require further assistance\, please feel free to contact the Mayor’s Office at 856-757-7200. \n  \nLet’s continue our united efforts in cleaning and improving our city’s neighborhoods as part of the ongoing Clean Camden Campaign. Your active participation will make a significant difference\, and together\, we can create a cleaner and more vibrant Camden! \n 
URL:https://www.camdennj.gov/event/camden-strong-clean-campaign-bookbags-school-supplies-giveaway/
END:VEVENT
END:VCALENDAR